BEGIN:VCALENDAR
VERSION:2.0
PRODID:-//VisitHornsea.co.uk - ECPv4.2.7//NONSGML v1.0//EN
CALSCALE:GREGORIAN
METHOD:PUBLISH
X-WR-CALNAME:VisitHornsea.co.uk
X-ORIGINAL-URL:http://visithornsea.co.uk
X-WR-CALDESC:Events for VisitHornsea.co.uk
BEGIN:VEVENT
DTSTART;TZID=Europe/London:20181221T193000
DTEND;TZID=Europe/London:20181221T210000
DTSTAMP:20260420T131652
CREATED:20181220T150319
LAST-MODIFIED:20190529T135346
UID:21526-1545420600-1545426000@visithornsea.co.uk
SUMMARY:A celebration of Christmas with the Adhoc Singers
DESCRIPTION:
URL:http://visithornsea.co.uk/event/a-celebration-of-christmas-with-the-adhoc-singers/
LOCATION:76 Newbegin\, Hornsea\, East Yorks\, HU18 1TS\, United Kingdom
GEO:53.911143;-0.1698083
X-APPLE-STRUCTURED-LOCATION;VALUE=URI;X-ADDRESS=76 Newbegin Hornsea East Yorks HU18 1TS United Kingdom;X-APPLE-RADIUS=500;X-TITLE=76 Newbegin:geo:-0.1698083,53.911143
END:VEVENT
END:VCALENDAR