BEGIN:VCALENDAR
VERSION:2.0
PRODID:-//VisitHornsea.co.uk - ECPv4.2.7//NONSGML v1.0//EN
CALSCALE:GREGORIAN
METHOD:PUBLISH
X-WR-CALNAME:VisitHornsea.co.uk
X-ORIGINAL-URL:http://visithornsea.co.uk
X-WR-CALDESC:Events for VisitHornsea.co.uk
BEGIN:VEVENT
DTSTART;TZID=Europe/London:20181214T190000
DTEND;TZID=Europe/London:20181214T220000
DTSTAMP:20260421T020405
CREATED:20181122T125634
LAST-MODIFIED:20190529T135347
UID:21214-1544814000-1544824800@visithornsea.co.uk
SUMMARY:Art Society AGM and social
DESCRIPTION:
URL:http://visithornsea.co.uk/event/art-society-agm-and-social-2/
LOCATION:25A Southgate\, Hornsea\, HU18 1RE\, United Kingdom
GEO:53.907186;-0.1717092
X-APPLE-STRUCTURED-LOCATION;VALUE=URI;X-ADDRESS=25A Southgate Hornsea HU18 1RE United Kingdom;X-APPLE-RADIUS=500;X-TITLE=25A Southgate:geo:-0.1717092,53.907186
END:VEVENT
END:VCALENDAR