BEGIN:VCALENDAR
VERSION:2.0
PRODID:-//VisitHornsea.co.uk - ECPv4.2.7//NONSGML v1.0//EN
CALSCALE:GREGORIAN
METHOD:PUBLISH
X-WR-CALNAME:VisitHornsea.co.uk
X-ORIGINAL-URL:http://visithornsea.co.uk
X-WR-CALDESC:Events for VisitHornsea.co.uk
BEGIN:VEVENT
DTSTART;TZID=Europe/London:20190208T193000
DTEND;TZID=Europe/London:20190208T213000
DTSTAMP:20260421T010718
CREATED:20190124T123402
LAST-MODIFIED:20190529T135318
UID:22325-1549654200-1549661400@visithornsea.co.uk
SUMMARY:Art Society meeting- 'Experimental approach to still life'
DESCRIPTION:All welcome
URL:http://visithornsea.co.uk/event/art-society-meeting-experimental-approach-to-still-life/
LOCATION:25A Southgate\, Hornsea\, HU18 1RE\, United Kingdom
GEO:53.907186;-0.1717092
X-APPLE-STRUCTURED-LOCATION;VALUE=URI;X-ADDRESS=25A Southgate Hornsea HU18 1RE United Kingdom;X-APPLE-RADIUS=500;X-TITLE=25A Southgate:geo:-0.1717092,53.907186
END:VEVENT
END:VCALENDAR