BEGIN:VCALENDAR
VERSION:2.0
PRODID:-//VisitHornsea.co.uk - ECPv4.2.7//NONSGML v1.0//EN
CALSCALE:GREGORIAN
METHOD:PUBLISH
X-WR-CALNAME:VisitHornsea.co.uk
X-ORIGINAL-URL:http://visithornsea.co.uk
X-WR-CALDESC:Events for VisitHornsea.co.uk
BEGIN:VEVENT
DTSTART;TZID=Europe/London:20181211T130000
DTEND;TZID=Europe/London:20181211T160000
DTSTAMP:20260421T053653
CREATED:20181122T125336
LAST-MODIFIED:20190529T135347
UID:21210-1544533200-1544544000@visithornsea.co.uk
SUMMARY:Christmas Afternoon Tea Dance
DESCRIPTION:Organised by the Hornsea Foundation (Biker Event)
URL:http://visithornsea.co.uk/event/christmas-afternoon-tea-dance/
LOCATION:Back Southgate\, Hornsea\, HU18 1BA\, United Kingdom
GEO:53.9096339;-0.1730791
X-APPLE-STRUCTURED-LOCATION;VALUE=URI;X-ADDRESS=Back Southgate Hornsea HU18 1BA United Kingdom;X-APPLE-RADIUS=500;X-TITLE=Back Southgate:geo:-0.1730791,53.9096339
END:VEVENT
END:VCALENDAR