BEGIN:VCALENDAR
VERSION:2.0
PRODID:-//VisitHornsea.co.uk - ECPv4.2.7//NONSGML v1.0//EN
CALSCALE:GREGORIAN
METHOD:PUBLISH
X-WR-CALNAME:VisitHornsea.co.uk
X-ORIGINAL-URL:http://visithornsea.co.uk
X-WR-CALDESC:Events for VisitHornsea.co.uk
BEGIN:VEVENT
DTSTART;TZID=Europe/London:20181212T133000
DTEND;TZID=Europe/London:20181212T170000
DTSTAMP:20260421T034559
CREATED:20181122T125458
LAST-MODIFIED:20190529T135347
UID:21212-1544621400-1544634000@visithornsea.co.uk
SUMMARY:Floral Cinema Mid-month Matinee 'The Man who Invented Christmas'
DESCRIPTION:
URL:http://visithornsea.co.uk/event/floral-cinema-mid-month-matinee-the-man-who-invented-christmas/
LOCATION:Esplanade\, Hornsea\, East Yorks\, HU18 1NQ\, United Kingdom
GEO:53.9175573;-0.1644951
X-APPLE-STRUCTURED-LOCATION;VALUE=URI;X-ADDRESS=Esplanade Hornsea East Yorks HU18 1NQ United Kingdom;X-APPLE-RADIUS=500;X-TITLE=Esplanade:geo:-0.1644951,53.9175573
END:VEVENT
END:VCALENDAR