BEGIN:VCALENDAR
VERSION:2.0
PRODID:-//VisitHornsea.co.uk - ECPv4.2.7//NONSGML v1.0//EN
CALSCALE:GREGORIAN
METHOD:PUBLISH
X-WR-CALNAME:VisitHornsea.co.uk
X-ORIGINAL-URL:http://visithornsea.co.uk
X-WR-CALDESC:Events for VisitHornsea.co.uk
BEGIN:VEVENT
DTSTART;TZID=Europe/London:20190216T193000
DTEND;TZID=Europe/London:20190216T213000
DTSTAMP:20260420T132059
CREATED:20190124T124200
LAST-MODIFIED:20190529T135317
UID:22335-1550345400-1550352600@visithornsea.co.uk
SUMMARY:Hornsea Music Society presents James Stretton in Concert
DESCRIPTION:
URL:http://visithornsea.co.uk/event/hornsea-music-society-presents-james-stretton-in-concert/
LOCATION:New Road\, Hornsea\, East Yorks\, HU18 1PG\, United Kingdom
GEO:53.9127318;-0.165194
X-APPLE-STRUCTURED-LOCATION;VALUE=URI;X-ADDRESS=New Road Hornsea East Yorks HU18 1PG United Kingdom;X-APPLE-RADIUS=500;X-TITLE=New Road:geo:-0.165194,53.9127318
END:VEVENT
END:VCALENDAR