BEGIN:VCALENDAR
VERSION:2.0
PRODID:-//VisitHornsea.co.uk - ECPv4.2.7//NONSGML v1.0//EN
CALSCALE:GREGORIAN
METHOD:PUBLISH
X-WR-CALNAME:VisitHornsea.co.uk
X-ORIGINAL-URL:http://visithornsea.co.uk
X-WR-CALDESC:Events for VisitHornsea.co.uk
BEGIN:VEVENT
DTSTART;TZID=Europe/London:20190113T100000
DTEND;TZID=Europe/London:20190113T120000
DTSTAMP:20260420T113125
CREATED:20181220T153033
LAST-MODIFIED:20190529T135346
UID:21561-1547373600-1547380800@visithornsea.co.uk
SUMMARY:Rotary Club Annual Hornsea Hike
DESCRIPTION:
URL:http://visithornsea.co.uk/event/rotary-club-annual-hornsea-hike/
LOCATION:Hull Rd\, Great Hatfield\, East Yorks\, HU11 1UX\, United Kingdom
GEO:53.85489;-0.1871463
X-APPLE-STRUCTURED-LOCATION;VALUE=URI;X-ADDRESS=Hull Rd Great Hatfield East Yorks HU11 1UX United Kingdom;X-APPLE-RADIUS=500;X-TITLE=Hull Rd:geo:-0.1871463,53.85489
END:VEVENT
END:VCALENDAR