BEGIN:VCALENDAR
VERSION:2.0
PRODID:-//VisitHornsea.co.uk - ECPv4.2.7//NONSGML v1.0//EN
CALSCALE:GREGORIAN
METHOD:PUBLISH
X-WR-CALNAME:VisitHornsea.co.uk
X-ORIGINAL-URL:http://visithornsea.co.uk
X-WR-CALDESC:Events for VisitHornsea.co.uk
BEGIN:VEVENT
DTSTART;TZID=Europe/London:20190115T100000
DTEND;TZID=Europe/London:20190115T130000
DTSTAMP:20260420T174835
CREATED:20181220T153538
LAST-MODIFIED:20190529T135346
UID:21569-1547546400-1547557200@visithornsea.co.uk
SUMMARY:Trace your family history
DESCRIPTION:
URL:http://visithornsea.co.uk/event/trace-your-family-history-17/
LOCATION:Newbegin\, Hornsea\, East Yorks\, HU18\, United Kingdom
GEO:53.9111852;-0.1700894
X-APPLE-STRUCTURED-LOCATION;VALUE=URI;X-ADDRESS=Newbegin Hornsea East Yorks HU18 United Kingdom;X-APPLE-RADIUS=500;X-TITLE=Newbegin:geo:-0.1700894,53.9111852
END:VEVENT
END:VCALENDAR